BEGIN:VCALENDAR
VERSION:2.0
PRODID:-// - ECPv6.15.20//NONSGML v1.0//EN
CALSCALE:GREGORIAN
METHOD:PUBLISH
X-ORIGINAL-URL:http://14juni.se
X-WR-CALDESC:Händelser för 
REFRESH-INTERVAL;VALUE=DURATION:PT1H
X-Robots-Tag:noindex
X-PUBLISHED-TTL:PT1H
BEGIN:VTIMEZONE
TZID:Europe/Stockholm
BEGIN:DAYLIGHT
TZOFFSETFROM:+0100
TZOFFSETTO:+0200
TZNAME:CEST
DTSTART:20250330T010000
END:DAYLIGHT
BEGIN:STANDARD
TZOFFSETFROM:+0200
TZOFFSETTO:+0100
TZNAME:CET
DTSTART:20251026T010000
END:STANDARD
BEGIN:DAYLIGHT
TZOFFSETFROM:+0100
TZOFFSETTO:+0200
TZNAME:CEST
DTSTART:20260329T010000
END:DAYLIGHT
BEGIN:STANDARD
TZOFFSETFROM:+0200
TZOFFSETTO:+0100
TZNAME:CET
DTSTART:20261025T010000
END:STANDARD
BEGIN:DAYLIGHT
TZOFFSETFROM:+0100
TZOFFSETTO:+0200
TZNAME:CEST
DTSTART:20270328T010000
END:DAYLIGHT
BEGIN:STANDARD
TZOFFSETFROM:+0200
TZOFFSETTO:+0100
TZNAME:CET
DTSTART:20271031T010000
END:STANDARD
END:VTIMEZONE
BEGIN:VEVENT
DTSTART;TZID=Europe/Stockholm:20260210T180000
DTEND;TZID=Europe/Stockholm:20260210T200000
DTSTAMP:20260420T041820
CREATED:20250907T151442Z
LAST-MODIFIED:20250907T151442Z
UID:1421-1770746400-1770753600@14juni.se
SUMMARY:Årsmöte
DESCRIPTION:Demokratins högtidsdag – årsmötet! Vi ser tillbaka på det år som varit\, men blickar framför allt framåt på det år som just börjat. Kom och bidra med tankar och idéer. Gofika och något matnyttigt utlovas också. \n 
URL:http://14juni.se/event/arsmote-6/
END:VEVENT
BEGIN:VEVENT
DTSTART;TZID=Europe/Stockholm:20260217T180000
DTEND;TZID=Europe/Stockholm:20260217T200000
DTSTAMP:20260420T041820
CREATED:20260204T101052Z
LAST-MODIFIED:20260204T101052Z
UID:1440-1771351200-1771358400@14juni.se
SUMMARY:Möt Tollare folkhögskolas rektor
DESCRIPTION:Det händer mycket på Movendis (IOGT-NTOs) folkhögskola Tollare\, Saltsjö-Boo. Se-\ndan ett drygt år tillbaka är Elina Majakari skolans rektor. Vi får lära känna henne lite\nmer samt höra vad som är på gång på Tollare.
URL:http://14juni.se/event/mot-tollare-folkhogskolas-rektor/
END:VEVENT
BEGIN:VEVENT
DTSTART;TZID=Europe/Stockholm:20260224T143000
DTEND;TZID=Europe/Stockholm:20260224T170000
DTSTAMP:20260420T041820
CREATED:20260204T101505Z
LAST-MODIFIED:20260204T101505Z
UID:1442-1771943400-1771952400@14juni.se
SUMMARY:Eftermiddag på Klara
DESCRIPTION:Kl. 14.30 börjar vi med fika och sen påbörjar vi vårens bokcirkel. Vid första tillfället\nska vi ha läst Vävarnas barn av Per-Anders Fogelström för att kunna prata om den\ntillsammans\, innan vi slutar så bestämmer vi vilken nästa bok blir. Vi slutar i god tid\ninnan kvällens möte\, så att vi hinner få lite luft.
URL:http://14juni.se/event/eftermiddag-pa-klara-2/
END:VEVENT
BEGIN:VEVENT
DTSTART;TZID=Europe/Stockholm:20260224T180000
DTEND;TZID=Europe/Stockholm:20260224T200000
DTSTAMP:20260420T041820
CREATED:20260204T101856Z
LAST-MODIFIED:20260204T102035Z
UID:1445-1771956000-1771963200@14juni.se
SUMMARY:Axplock från Asien med extra fokus på Vietnam
DESCRIPTION:Lilian Tybell har bott och arbetat 25 år i Asien med början i Kolkata i Indien 1976. Sedan har det blivit Bangladesh\, Sri Lanka\, Vietnam och Thailand i perioder om 3 – 6 år. Hon är sjuksköterska\, barnmorska och sjukvårdslärare och har framför allt arbetat med utbildning av byhälsovårdsarbetare och bybarnmorskor\, även med administration och projektplanering. \nLilian har varit anställd hos olika biståndsorganisationer som Diakonia i Bangladesh och Indien\, FORUT på Sri Lanka\, SIDA:s hälsoprogram i avlägsna områden för etniska minoriteter i Vietnam samt IOGT-NTO:s Internationella Institut och där länder i Sydostasien.
URL:http://14juni.se/event/axplock-fran-asien-med-extra-fokus-pa-vietnam/
END:VEVENT
BEGIN:VEVENT
DTSTART;TZID=Europe/Stockholm:20260303T180000
DTEND;TZID=Europe/Stockholm:20260303T200000
DTSTAMP:20260420T041820
CREATED:20260204T102314Z
LAST-MODIFIED:20260204T102314Z
UID:1449-1772560800-1772568000@14juni.se
SUMMARY:UNF-are på klara
DESCRIPTION:Det är inte bara vi i 14 Juni som håller till på Klara Södra. Här finns också UNF Stockholm. Nu när vi alla tillhör samma organisation (Movendi) vill vi försöka lära känna varandra lite bättre. Vi har därför bjudit in UNF Stockholm. Det blir spännande att se vad det kan leda till.
URL:http://14juni.se/event/unf-are-pa-klara/
END:VEVENT
BEGIN:VEVENT
DTSTART;TZID=Europe/Stockholm:20260310T180000
DTEND;TZID=Europe/Stockholm:20260310T200000
DTSTAMP:20260420T041820
CREATED:20260204T102509Z
LAST-MODIFIED:20260204T102509Z
UID:1451-1773165600-1773172800@14juni.se
SUMMARY:Inför valet
DESCRIPTION:I höst är det val till riksdag\, region och kommun. Hur fungerar egentligen vårt valsystem? Är det bra med gemensam valdag till alla tre nivåerna? Vilka externa och interna hot finns det mot höstens val? Och hur är det med kungen\, har han rösträtt? Det är frågor som Ida Karkiainen\, tidigare ordförande i riksdagens konstitutionsutskott\, hjälper oss att besvara och diskutera.
URL:http://14juni.se/event/infor-valet/
END:VEVENT
BEGIN:VEVENT
DTSTART;VALUE=DATE:20260314
DTEND;VALUE=DATE:20260316
DTSTAMP:20260420T041820
CREATED:20260204T102714Z
LAST-MODIFIED:20260204T110910Z
UID:1453-1773446400-1773619199@14juni.se
SUMMARY:Syhelg
DESCRIPTION:Dags för vårens syhelg. Helgens tema är ”kassar och påsar”\, men som vanligt får\nman göra vad han vill. Anmälan till maria.skans@gmail.com senast 6/3.
URL:http://14juni.se/event/syhelg-10/
END:VEVENT
BEGIN:VEVENT
DTSTART;TZID=Europe/Stockholm:20260317T180000
DTEND;TZID=Europe/Stockholm:20260317T200000
DTSTAMP:20260420T041820
CREATED:20260204T111031Z
LAST-MODIFIED:20260204T111031Z
UID:1455-1773770400-1773777600@14juni.se
SUMMARY:Föreningsmöte
DESCRIPTION:En av hörnstenarna i föreningslivet är att värna om demokratin. Det gör vi bland annat genom att regelbundet ha föreningsmöten där saker diskuteras och beslut fattas. Detta är årets första föreningsmöte. Kom och gör din röst hörd!
URL:http://14juni.se/event/foreningsmote-16/
END:VEVENT
BEGIN:VEVENT
DTSTART;TZID=Europe/Stockholm:20260324T180000
DTEND;TZID=Europe/Stockholm:20260324T200000
DTSTAMP:20260420T041820
CREATED:20260204T111158Z
LAST-MODIFIED:20260204T111158Z
UID:1457-1774375200-1774382400@14juni.se
SUMMARY:Ture Nerman
DESCRIPTION:Anders Wesslén kommer och pratar om Ture Nerman. Anders är historiker och har arbetat på bl.a. Armémuseum\, Gävlborgs länsmuseum och Arkiv Gävleborg\nnu som museisamordnare på RAÄ. Han har en bred palett av personer han grotta ner sig i bl.a. Emanuel Swedenborg\, Carl XII och Joe Hill.
URL:http://14juni.se/event/ture-nerman/
END:VEVENT
BEGIN:VEVENT
DTSTART;TZID=Europe/Stockholm:20260331T143000
DTEND;TZID=Europe/Stockholm:20260331T170000
DTSTAMP:20260420T041820
CREATED:20260204T111321Z
LAST-MODIFIED:20260204T111321Z
UID:1459-1774967400-1774976400@14juni.se
SUMMARY:Eftermiddag på Klara
DESCRIPTION:Kl. 14.30 börjar vi med fika och sen fortsätter vi vårens bokcirkel. Vi slutar i god tid innan kvällens möte\, så att vi hinner få lite luft.
URL:http://14juni.se/event/eftermiddag-pa-klara-3/
END:VEVENT
BEGIN:VEVENT
DTSTART;TZID=Europe/Stockholm:20260331T180000
DTEND;TZID=Europe/Stockholm:20260331T200000
DTSTAMP:20260420T041820
CREATED:20260204T111456Z
LAST-MODIFIED:20260204T120609Z
UID:1461-1774980000-1774987200@14juni.se
SUMMARY:Påskfest
DESCRIPTION:Vem vinner årets äggmålartävling och vem har flest rätt i den kluriga tipsrundan? Ja\, frågorna är många\, men ett vet vi – det blir gott fika och något ”påskaktigt” till dessert.
URL:http://14juni.se/event/paskfest-6/
END:VEVENT
BEGIN:VEVENT
DTSTART;TZID=Europe/Stockholm:20260407T180000
DTEND;TZID=Europe/Stockholm:20260407T200000
DTSTAMP:20260420T041820
CREATED:20260204T111754Z
LAST-MODIFIED:20260204T111847Z
UID:1463-1775584800-1775592000@14juni.se
SUMMARY:Sydostasien på räls
DESCRIPTION:Familjen Karlsson\, alla fem\, har gjort en resa i fjärran land. En resa från Hongkong till Bangkok via Kunming\, Dali\, Lijiang\, Tigersprångsklyftan\, Namkat Yorla Pa resort\, Sopchem\, Nam Ou river\, Sopkeng\, Mekong river\, Pak Ouv caves\, Luang Prabang\, Luang Prabang Provincal Hospital\, Kuang Si Falls\, Ventien\, Hellfire Pass\, Bron över floden Kwai och Thamkra Sae. Hongkong\, Yunnan i Kina\, Laos och Thailand. Mycket tåg\, en hel del båt i Laos\, minibuss samt kollektivtrafik med buss\, tåg och båt. 14 pers och en reseledare och lokala guider. Många intryck.
URL:http://14juni.se/event/sydostasien-pa-rals/
END:VEVENT
BEGIN:VEVENT
DTSTART;TZID=Europe/Stockholm:20260414T180000
DTEND;TZID=Europe/Stockholm:20260414T200000
DTSTAMP:20260420T041820
CREATED:20260204T112005Z
LAST-MODIFIED:20260204T112005Z
UID:1466-1776189600-1776196800@14juni.se
SUMMARY:Inför valet 2
DESCRIPTION:Hur vill riksdagspartierna utveckla drogpolitiken? Emil Juslin\, politisk chef hos Movendi Sverige berättar om partiernas syn på alkohol och narkotikapolitiken och inleder en diskussion om hur vi ska få de frågorna att uppmärksammas i den\nkommande valrörelsen.
URL:http://14juni.se/event/infor-valet-2/
END:VEVENT
BEGIN:VEVENT
DTSTART;TZID=Europe/Stockholm:20260421T180000
DTEND;TZID=Europe/Stockholm:20260421T200000
DTSTAMP:20260420T041820
CREATED:20260204T112141Z
LAST-MODIFIED:20260204T112141Z
UID:1468-1776794400-1776801600@14juni.se
SUMMARY:Svenska handelns historia
DESCRIPTION:En av våra trognaste gäster – Anders Johnson – gästar oss och berättar om sin senaste bok ”Svenska handelns historia”. Förutom en introduktion av boken\, brukar det också bli en och annan anekdot.
URL:http://14juni.se/event/svenska-handelns-historia/
END:VEVENT
BEGIN:VEVENT
DTSTART;TZID=Europe/Stockholm:20260428T180000
DTEND;TZID=Europe/Stockholm:20260428T200000
DTSTAMP:20260420T041820
CREATED:20260204T112346Z
LAST-MODIFIED:20260204T120101Z
UID:1470-1777399200-1777406400@14juni.se
SUMMARY:Vandring på Söder
DESCRIPTION:Vi träffas vid 18-tiden vid hållplats Barnängen (buss 2 från Slussen) och fikar på ”Kajsas på kajen”. Vi tittar runt i Barnängen och försöker visualisera hur det såg ut på 1700-talet. Vandringen fortsätter sedan mot Slussen med stopp i Vita Bergsparken och Katarina kyrka.
URL:http://14juni.se/event/vandring-pa-soder/
END:VEVENT
BEGIN:VEVENT
DTSTART;TZID=Europe/Stockholm:20260505T143000
DTEND;TZID=Europe/Stockholm:20260505T170000
DTSTAMP:20260420T041820
CREATED:20260204T112457Z
LAST-MODIFIED:20260204T113047Z
UID:1472-1777991400-1778000400@14juni.se
SUMMARY:Eftermiddag på Klara
DESCRIPTION:Kl. 14.30 börjar vi med fika och sen fortsätter vi vårens bokcirkel. Vi slutar i god tid innan kvällens möte\, så att vi hinner få lite luft.
URL:http://14juni.se/event/eftermiddag-pa-klara-4/
END:VEVENT
BEGIN:VEVENT
DTSTART;TZID=Europe/Stockholm:20260505T180000
DTEND;TZID=Europe/Stockholm:20260505T200000
DTSTAMP:20260420T041820
CREATED:20260204T112806Z
LAST-MODIFIED:20260204T112806Z
UID:1474-1778004000-1778011200@14juni.se
SUMMARY:Movendis generalsekreterare Vidar Aronsson
DESCRIPTION:Efter sammanslagningen av IOGT-NTO\, UNF och Junis till Movendi Sverige (ja\, NSF kommer också snart med) har Vidar Aronsson utsetts till det nya förbundets första generalsekreterare. Han tillträder i mars 2026. Vidar har en gedigen erfarenhet av nykterhetsrörelsen\, bl a som ordförande för såväl UNF som NBV. Han har tidigare varit inbjuden som en av våra sommarpratare\, men den här gången kommer han att berätta om sitt nya uppdrag och vad som är på gång inom Movendi Sverige.
URL:http://14juni.se/event/movendis-generalsekreterare-vidar-aronsson/
END:VEVENT
BEGIN:VEVENT
DTSTART;TZID=Europe/Stockholm:20260512T180000
DTEND;TZID=Europe/Stockholm:20260512T200000
DTSTAMP:20260420T041820
CREATED:20260204T113253Z
LAST-MODIFIED:20260204T113253Z
UID:1476-1778608800-1778616000@14juni.se
SUMMARY:Inför valet 3
DESCRIPTION:Drogkampen I samarbete med distriktet bjuder vi in företrädare för de politiska partierna i Stockholm till en lekfull – men prestigefylld – frågetävling om aktuella frågor i alkohol- och narkotikapolitiken.
URL:http://14juni.se/event/infor-valet-3/
END:VEVENT
BEGIN:VEVENT
DTSTART;VALUE=DATE:20260514
DTEND;VALUE=DATE:20260515
DTSTAMP:20260420T041820
CREATED:20260204T113354Z
LAST-MODIFIED:20260204T113354Z
UID:1478-1778716800-1778803199@14juni.se
SUMMARY:Skansen
DESCRIPTION:Vi tar oss till Skansen tillsammans denna Folknykterhetens dag. Det finns inget firande att tillgå\, men vi får en fin dag i varandras sällskap.
URL:http://14juni.se/event/skansen/
END:VEVENT
BEGIN:VEVENT
DTSTART;TZID=Europe/Stockholm:20260519T180000
DTEND;TZID=Europe/Stockholm:20260519T200000
DTSTAMP:20260420T041820
CREATED:20260204T113524Z
LAST-MODIFIED:20260204T113524Z
UID:1480-1779213600-1779220800@14juni.se
SUMMARY:Föreningsmöte
DESCRIPTION:En av hörnstenarna i föreningslivet är att värna om demokratin. Det gör vi bland annat genom att regelbundet ha föreningsmöten där saker diskuteras och beslut fattas. Detta är årets andra föreningsmöte. Här kommer vi också att spåna programpunkter inför hösten.
URL:http://14juni.se/event/foreningsmote-17/
END:VEVENT
BEGIN:VEVENT
DTSTART;TZID=Europe/Stockholm:20260526T180000
DTEND;TZID=Europe/Stockholm:20260526T200000
DTSTAMP:20260420T041820
CREATED:20260204T113729Z
LAST-MODIFIED:20260204T114221Z
UID:1482-1779818400-1779825600@14juni.se
SUMMARY:Sommar med Sven Andreasson
DESCRIPTION:Sven Andréasson är alkoholläkare och har varit verksam inom alkoholprevention i olika fora för lång tid. Nu får vi höra mer om detta och får också lite musik till livs.
URL:http://14juni.se/event/1482/
END:VEVENT
BEGIN:VEVENT
DTSTART;TZID=Europe/Stockholm:20260602T180000
DTEND;TZID=Europe/Stockholm:20260602T200000
DTSTAMP:20260420T041820
CREATED:20260204T114413Z
LAST-MODIFIED:20260204T114537Z
UID:1489-1780423200-1780430400@14juni.se
SUMMARY:Minigolf
DESCRIPTION:En mångårig tradition är 14 junis öppna klubbmästerskap i minigolf. Vi brukar bjuda in SGIF och de som vi vet vill vara med. Plats ej ännu bestämd. Viktigt är att blidka regngudarna så att de väntar med regn tills dagen efter. Det brukar ofta misslyckas\, men vi jobbar på det.
URL:http://14juni.se/event/minigolf-3/
END:VEVENT
BEGIN:VEVENT
DTSTART;VALUE=DATE:20260614
DTEND;VALUE=DATE:20260615
DTSTAMP:20260420T041820
CREATED:20260204T114023Z
LAST-MODIFIED:20260204T114138Z
UID:1486-1781395200-1781481599@14juni.se
SUMMARY:Föreningens födelsedag
DESCRIPTION:Vi gör en utflykt till Taxinge ”Kakslottet”. Planen är att vi ska åka tåg åt ena hållet och båt åt andra hållet. Mer information kommer då alla tidtabeller är uppdaterade. Anmäl medverkan senast 7/6 så att vi kan reservera bord i fiket.
URL:http://14juni.se/event/foreningens-fodelsedag/
END:VEVENT
END:VCALENDAR