BEGIN:VCALENDAR
VERSION:2.0
PRODID:-// - ECPv6.15.20//NONSGML v1.0//EN
CALSCALE:GREGORIAN
METHOD:PUBLISH
X-ORIGINAL-URL:http://14juni.se
X-WR-CALDESC:Händelser för 
REFRESH-INTERVAL;VALUE=DURATION:PT1H
X-Robots-Tag:noindex
X-PUBLISHED-TTL:PT1H
BEGIN:VTIMEZONE
TZID:Europe/Stockholm
BEGIN:DAYLIGHT
TZOFFSETFROM:+0100
TZOFFSETTO:+0200
TZNAME:CEST
DTSTART:20250330T010000
END:DAYLIGHT
BEGIN:STANDARD
TZOFFSETFROM:+0200
TZOFFSETTO:+0100
TZNAME:CET
DTSTART:20251026T010000
END:STANDARD
BEGIN:DAYLIGHT
TZOFFSETFROM:+0100
TZOFFSETTO:+0200
TZNAME:CEST
DTSTART:20260329T010000
END:DAYLIGHT
BEGIN:STANDARD
TZOFFSETFROM:+0200
TZOFFSETTO:+0100
TZNAME:CET
DTSTART:20261025T010000
END:STANDARD
BEGIN:DAYLIGHT
TZOFFSETFROM:+0100
TZOFFSETTO:+0200
TZNAME:CEST
DTSTART:20270328T010000
END:DAYLIGHT
BEGIN:STANDARD
TZOFFSETFROM:+0200
TZOFFSETTO:+0100
TZNAME:CET
DTSTART:20271031T010000
END:STANDARD
END:VTIMEZONE
BEGIN:VEVENT
DTSTART;TZID=Europe/Stockholm:20260217T180000
DTEND;TZID=Europe/Stockholm:20260217T200000
DTSTAMP:20260419T192557
CREATED:20260204T101052Z
LAST-MODIFIED:20260204T101052Z
UID:1440-1771351200-1771358400@14juni.se
SUMMARY:Möt Tollare folkhögskolas rektor
DESCRIPTION:Det händer mycket på Movendis (IOGT-NTOs) folkhögskola Tollare\, Saltsjö-Boo. Se-\ndan ett drygt år tillbaka är Elina Majakari skolans rektor. Vi får lära känna henne lite\nmer samt höra vad som är på gång på Tollare.
URL:http://14juni.se/event/mot-tollare-folkhogskolas-rektor/
END:VEVENT
END:VCALENDAR