BEGIN:VCALENDAR
VERSION:2.0
PRODID:-// - ECPv6.15.20//NONSGML v1.0//EN
CALSCALE:GREGORIAN
METHOD:PUBLISH
X-ORIGINAL-URL:http://14juni.se
X-WR-CALDESC:Händelser för 
REFRESH-INTERVAL;VALUE=DURATION:PT1H
X-Robots-Tag:noindex
X-PUBLISHED-TTL:PT1H
BEGIN:VTIMEZONE
TZID:Europe/Stockholm
BEGIN:DAYLIGHT
TZOFFSETFROM:+0100
TZOFFSETTO:+0200
TZNAME:CEST
DTSTART:20250330T010000
END:DAYLIGHT
BEGIN:STANDARD
TZOFFSETFROM:+0200
TZOFFSETTO:+0100
TZNAME:CET
DTSTART:20251026T010000
END:STANDARD
BEGIN:DAYLIGHT
TZOFFSETFROM:+0100
TZOFFSETTO:+0200
TZNAME:CEST
DTSTART:20260329T010000
END:DAYLIGHT
BEGIN:STANDARD
TZOFFSETFROM:+0200
TZOFFSETTO:+0100
TZNAME:CET
DTSTART:20261025T010000
END:STANDARD
BEGIN:DAYLIGHT
TZOFFSETFROM:+0100
TZOFFSETTO:+0200
TZNAME:CEST
DTSTART:20270328T010000
END:DAYLIGHT
BEGIN:STANDARD
TZOFFSETFROM:+0200
TZOFFSETTO:+0100
TZNAME:CET
DTSTART:20271031T010000
END:STANDARD
END:VTIMEZONE
BEGIN:VEVENT
DTSTART;TZID=Europe/Stockholm:20260120T180000
DTEND;TZID=Europe/Stockholm:20260120T200000
DTSTAMP:20260420T083328
CREATED:20250907T151020Z
LAST-MODIFIED:20250907T151020Z
UID:1415-1768932000-1768939200@14juni.se
SUMMARY:Sommar
DESCRIPTION:Sommar med Sven-Olov Carlsson som bland annat har varit ordförande i IOGT-NTO\, IOGT International och WFAD. Vi får höra hur allt började i Persberg\, Värmland och vidare genom kommunerna Torsby\, Hagfors\, Munkfors och Flen. Hur försäkrar man en kyrka och får igenom en budget när kommunalrådet är på lokal.
URL:http://14juni.se/event/sommar/
END:VEVENT
END:VCALENDAR