BEGIN:VCALENDAR
VERSION:2.0
PRODID:-// - ECPv6.15.20//NONSGML v1.0//EN
CALSCALE:GREGORIAN
METHOD:PUBLISH
X-ORIGINAL-URL:http://14juni.se
X-WR-CALDESC:Händelser för 
REFRESH-INTERVAL;VALUE=DURATION:PT1H
X-Robots-Tag:noindex
X-PUBLISHED-TTL:PT1H
BEGIN:VTIMEZONE
TZID:Europe/Stockholm
BEGIN:DAYLIGHT
TZOFFSETFROM:+0100
TZOFFSETTO:+0200
TZNAME:CEST
DTSTART:20240331T010000
END:DAYLIGHT
BEGIN:STANDARD
TZOFFSETFROM:+0200
TZOFFSETTO:+0100
TZNAME:CET
DTSTART:20241027T010000
END:STANDARD
BEGIN:DAYLIGHT
TZOFFSETFROM:+0100
TZOFFSETTO:+0200
TZNAME:CEST
DTSTART:20250330T010000
END:DAYLIGHT
BEGIN:STANDARD
TZOFFSETFROM:+0200
TZOFFSETTO:+0100
TZNAME:CET
DTSTART:20251026T010000
END:STANDARD
BEGIN:DAYLIGHT
TZOFFSETFROM:+0100
TZOFFSETTO:+0200
TZNAME:CEST
DTSTART:20260329T010000
END:DAYLIGHT
BEGIN:STANDARD
TZOFFSETFROM:+0200
TZOFFSETTO:+0100
TZNAME:CET
DTSTART:20261025T010000
END:STANDARD
END:VTIMEZONE
BEGIN:VEVENT
DTSTART;TZID=Europe/Stockholm:20251104T180000
DTEND;TZID=Europe/Stockholm:20251104T200000
DTSTAMP:20260425T200527
CREATED:20250907T145751Z
LAST-MODIFIED:20250907T145751Z
UID:1399-1762279200-1762286400@14juni.se
SUMMARY:Du är en del av Sveriges beredskap
DESCRIPTION: I en orolig tid med kriser och krig som påverkar vår vardag\, behöver vi alla öka vår kunskap om hur vi kan stärka vår egen beredskap. Eva Blomqvist\, riksbilkårchef\, berättar om hur man genom att stärka sin egen beredskap bidrar till ett mer motståndskraftigt samhälle. \n 
URL:http://14juni.se/event/du-ar-en-del-av-sveriges-beredskap/
END:VEVENT
END:VCALENDAR